BEGIN:VCALENDAR
VERSION:2.0
CALSCALE:GREGORIAN
PRODID:-//Diputació de Barcelona//DibaCMS//EN
BEGIN:VEVENT
UID:3248
DTSTAMP:20260422T102445
DTSTART:20220925T113000
DTEND:20220925T114000
SUMMARY: Inauguració: el mosaic del Castellvell
LOCATION:Plaça del poble 
METHOD:PUBLISH
X-WR-CALNAME:info@castellviderosanes.cat
X-WR-TIMEZONE:Europe/Madrid
DESCRIPTION:En el marc de la Festa de Sant Miquel

URI:https://www.castellviderosanes.cat/municipi/activitats/activitats-culturals/-inauguracio-el-mosaic-del-castellvell.html
CLASS:PUBLIC
END:VEVENT
END:VCALENDAR
