BEGIN:VCALENDAR
VERSION:2.0
CALSCALE:GREGORIAN
PRODID:-//Diputació de Barcelona//DibaCMS//EN
BEGIN:VEVENT
UID:3391
DTSTAMP:20260422T124322
DTSTART:20221125T190000
DTEND:20221125T191500
SUMMARY:25N. Lectura del manifest contra les violències masclistes
LOCATION:Plaça del poble 
METHOD:PUBLISH
X-WR-CALNAME:info@castellviderosanes.cat
X-WR-TIMEZONE:Europe/Madrid
DESCRIPTION:A la plaça del poble

URI:https://www.castellviderosanes.cat/comunicacio/agenda/25n-lectura-del-manifest-contra-les-violencies-masclistes.html
CLASS:PUBLIC
END:VEVENT
END:VCALENDAR
