BEGIN:VCALENDAR
VERSION:2.0
CALSCALE:GREGORIAN
PRODID:-//Diputació de Barcelona//DibaCMS//EN
BEGIN:VEVENT
UID:3415
DTSTAMP:20260422T125413
DTSTART:20221128T190000
DTEND:20221128T203000
SUMMARY:Ple ordinari de novembre
LOCATION:
METHOD:PUBLISH
X-WR-CALNAME:info@castellviderosanes.cat
X-WR-TIMEZONE:Europe/Madrid
DESCRIPTION:
URI:https://www.castellviderosanes.cat/comunicacio/agenda/3415-ple-ordinari-de-novembre.html
CLASS:PUBLIC
END:VEVENT
END:VCALENDAR
