BEGIN:VCALENDAR
VERSION:2.0
CALSCALE:GREGORIAN
PRODID:-//Diputació de Barcelona//DibaCMS//EN
BEGIN:VEVENT
UID:3578
DTSTAMP:20260421T102528
DTSTART:20231116T093000
DTEND:20231116T133000
SUMMARY:Curs 'Fes que els teus clients et trobin a Internet. Posicionament SEO a Google'
LOCATION:
METHOD:PUBLISH
X-WR-CALNAME:info@castellviderosanes.cat
X-WR-TIMEZONE:Europe/Madrid
DESCRIPTION:Formació online teòrica i pràctica.

URI:https://www.castellviderosanes.cat/comunicacio/agenda/3578-curs-fes-que-els-teus-clients-et-trobin-a-internet-posicionament-seo-a-google.html
CLASS:PUBLIC
END:VEVENT
END:VCALENDAR
