BEGIN:VCALENDAR
VERSION:2.0
CALSCALE:GREGORIAN
PRODID:-//Diputació de Barcelona//DibaCMS//EN
BEGIN:VEVENT
UID:3721
DTSTAMP:20260421T115625
DTSTART:20230518T170000
DTEND:20230518T190000
SUMMARY:Taller per a famílies amb infants de 6 a 12 anys
LOCATION:Online 
METHOD:PUBLISH
X-WR-CALNAME:info@castellviderosanes.cat
X-WR-TIMEZONE:Europe/Madrid
DESCRIPTION:Taller online

URI:https://www.castellviderosanes.cat/municipi/activitats/activitats-culturals/taller-per-a-families-amb-infants-de-6-a-12-anys.html
CLASS:PUBLIC
END:VEVENT
END:VCALENDAR
