BEGIN:VCALENDAR
VERSION:2.0
CALSCALE:GREGORIAN
PRODID:-//Diputació de Barcelona//DibaCMS//EN
BEGIN:VEVENT
UID:3735
DTSTAMP:20260421T114651
DTSTART:20230502T183000
DTEND:20230502T193000
SUMMARY:Ple ordinari de maig
LOCATION:
METHOD:PUBLISH
X-WR-CALNAME:info@castellviderosanes.cat
X-WR-TIMEZONE:Europe/Madrid
DESCRIPTION:
URI:https://www.castellviderosanes.cat/comunicacio/agenda/3735-ple-ordinari-de-maig.html
CLASS:PUBLIC
END:VEVENT
END:VCALENDAR
