BEGIN:VCALENDAR
VERSION:2.0
CALSCALE:GREGORIAN
PRODID:-//Diputació de Barcelona//DibaCMS//EN
BEGIN:VEVENT
UID:3831
DTSTAMP:20260421T102704
DTSTART:20230618T180000
DTEND:20230618T180000
SUMMARY:Mostra de final de curs de l'EMiD
LOCATION:Sala del CCR 
METHOD:PUBLISH
X-WR-CALNAME:info@castellviderosanes.cat
X-WR-TIMEZONE:Europe/Madrid
DESCRIPTION:Actuacions de l'alumnat de l'escola

URI:https://www.castellviderosanes.cat/municipi/activitats/activitats-culturals/mostra-de-final-de-curs-de-lemid.html
CLASS:PUBLIC
END:VEVENT
END:VCALENDAR
