BEGIN:VCALENDAR
VERSION:2.0
CALSCALE:GREGORIAN
PRODID:-//Diputació de Barcelona//DibaCMS//EN
BEGIN:VEVENT
UID:3835
DTSTAMP:20260421T115206
DTSTART:20230620T190000
DTEND:20230620T200000
SUMMARY:Club de lectura de Castellví
LOCATION:Saló de plens 
METHOD:PUBLISH
X-WR-CALNAME:info@castellviderosanes.cat
X-WR-TIMEZONE:Europe/Madrid
DESCRIPTION:
URI:https://www.castellviderosanes.cat/municipi/activitats/activitats-culturals/club-de-lectura-de-castellvi.html
CLASS:PUBLIC
END:VEVENT
END:VCALENDAR
