BEGIN:VCALENDAR
VERSION:2.0
CALSCALE:GREGORIAN
PRODID:-//Diputació de Barcelona//DibaCMS//EN
BEGIN:VEVENT
UID:3850
DTSTAMP:20260421T102606
DTSTART:20230705T120000
DTEND:20230705T130000
SUMMARY:Visita unitat mòbil de consum 
LOCATION:C/ Parra (al costat de l'Ajuntament) 
METHOD:PUBLISH
X-WR-CALNAME:info@castellviderosanes.cat
X-WR-TIMEZONE:Europe/Madrid
DESCRIPTION:Servei gratuït. No cal cita prèvia.

URI:https://www.castellviderosanes.cat/comunicacio/agenda/visita-unitat-mobil-de-consum-.html
CLASS:PUBLIC
END:VEVENT
END:VCALENDAR
