BEGIN:VCALENDAR
VERSION:2.0
CALSCALE:GREGORIAN
PRODID:-//Diputació de Barcelona//DibaCMS//EN
BEGIN:VEVENT
UID:3944
DTSTAMP:20260421T113405
DTSTART:20230909T180000
DTEND:20230909T190000
SUMMARY:Win-Do-W (espectacle per a tots els públics)
LOCATION:Pista del CCR 
METHOD:PUBLISH
X-WR-CALNAME:info@castellviderosanes.cat
X-WR-TIMEZONE:Europe/Madrid
DESCRIPTION:Programació escènica 2023 dins del Programa.cat

URI:https://www.castellviderosanes.cat/municipi/activitats/activitats-culturals/win-do-w-espectacle-per-a-tots-els-publics.html
CLASS:PUBLIC
END:VEVENT
END:VCALENDAR
