BEGIN:VCALENDAR
VERSION:2.0
CALSCALE:GREGORIAN
PRODID:-//Diputació de Barcelona//DibaCMS//EN
BEGIN:VEVENT
UID:3958
DTSTAMP:20260421T114321
DTSTART:20230911T090000
DTEND:20230911T090000
SUMMARY:Diada 2023. Hissada de la senyera a la Cadireta
LOCATION:
METHOD:PUBLISH
X-WR-CALNAME:info@castellviderosanes.cat
X-WR-TIMEZONE:Europe/Madrid
DESCRIPTION:
URI:https://www.castellviderosanes.cat/municipi/activitats/activitats-culturals/diada-2023-hissada-de-la-senyera-a-la-cadireta.html
CLASS:PUBLIC
END:VEVENT
END:VCALENDAR
