BEGIN:VCALENDAR
VERSION:2.0
CALSCALE:GREGORIAN
PRODID:-//Diputació de Barcelona//DibaCMS//EN
BEGIN:VEVENT
UID:3959
DTSTAMP:20260421T102332
DTSTART:20230911T100000
DTEND:20230911T100000
SUMMARY:Diada 2023. Sardinada 
LOCATION:
METHOD:PUBLISH
X-WR-CALNAME:info@castellviderosanes.cat
X-WR-TIMEZONE:Europe/Madrid
DESCRIPTION:
URI:https://www.castellviderosanes.cat/municipi/activitats/activitats-culturals/diada-2023-sardinada-.html
CLASS:PUBLIC
END:VEVENT
END:VCALENDAR
