BEGIN:VCALENDAR
VERSION:2.0
CALSCALE:GREGORIAN
PRODID:-//Diputació de Barcelona//DibaCMS//EN
BEGIN:VEVENT
UID:3991
DTSTAMP:20260421T111034
DTSTART:20230922T203000
DTEND:20230922T235900
SUMMARY:Assaig obert dels castellers Vailets de Gelida
LOCATION:Plaça del poble 
METHOD:PUBLISH
X-WR-CALNAME:info@castellviderosanes.cat
X-WR-TIMEZONE:Europe/Madrid
DESCRIPTION:
URI:https://www.castellviderosanes.cat/municipi/activitats/activitats-culturals/assaig-obert-dels-castellers-vailets-de-gelida.html
CLASS:PUBLIC
END:VEVENT
END:VCALENDAR
