BEGIN:VCALENDAR
VERSION:2.0
CALSCALE:GREGORIAN
PRODID:-//Diputació de Barcelona//DibaCMS//EN
BEGIN:VEVENT
UID:3992
DTSTAMP:20260421T145508
DTSTART:20230923T083000
DTEND:20230923T130000
SUMMARY:Caminada jove (oberta a tothom)
LOCATION:Sortida des de la plaça del poble 
METHOD:PUBLISH
X-WR-CALNAME:info@castellviderosanes.cat
X-WR-TIMEZONE:Europe/Madrid
DESCRIPTION:
URI:https://www.castellviderosanes.cat/municipi/activitats/activitats-culturals/caminada-jove-oberta-a-tothom.html
CLASS:PUBLIC
END:VEVENT
END:VCALENDAR
