BEGIN:VCALENDAR
VERSION:2.0
CALSCALE:GREGORIAN
PRODID:-//Diputació de Barcelona//DibaCMS//EN
BEGIN:VEVENT
UID:4003
DTSTAMP:20260421T133408
DTSTART:20230919T183000
DTEND:20230919T183000
SUMMARY:Grup de lectura
LOCATION:Av. Mare de Déu de Montserrat, 29 08769 Castellví de Rosanes
METHOD:PUBLISH
X-WR-CALNAME:info@castellviderosanes.cat
X-WR-TIMEZONE:Europe/Madrid
DESCRIPTION:
URI:https://www.castellviderosanes.cat/municipi/activitats/activitats-culturals/grup-de-lectura.html
CLASS:PUBLIC
END:VEVENT
END:VCALENDAR
