BEGIN:VCALENDAR
VERSION:2.0
CALSCALE:GREGORIAN
PRODID:-//Diputació de Barcelona//DibaCMS//EN
BEGIN:VEVENT
UID:4024
DTSTAMP:20260421T102457
DTSTART:20231001T110000
DTEND:20231001T200000
SUMMARY:Portes obertes final de temporada d'estiu a la piscina
LOCATION:Av. Mare de Déu de Montserrat, 29 08769 Castellví de Rosanes
METHOD:PUBLISH
X-WR-CALNAME:info@castellviderosanes.cat
X-WR-TIMEZONE:Europe/Madrid
DESCRIPTION:Amb actuació musical a migdia

URI:https://www.castellviderosanes.cat/municipi/activitats/activitats-culturals/portes-obertes-final-de-temporada-destiu-a-la-piscina.html
CLASS:PUBLIC
END:VEVENT
END:VCALENDAR
