BEGIN:VCALENDAR
VERSION:2.0
CALSCALE:GREGORIAN
PRODID:-//Diputació de Barcelona//DibaCMS//EN
BEGIN:VEVENT
UID:4032
DTSTAMP:20260421T114722
DTSTART:20231027T170000
DTEND:20231027T170000
SUMMARY:Xerrada-taller: incontinència urinària
LOCATION:Plaça d’Europa, s/n 08769 Castellví de Rosanes
METHOD:PUBLISH
X-WR-CALNAME:info@castellviderosanes.cat
X-WR-TIMEZONE:Europe/Madrid
DESCRIPTION:
URI:https://www.castellviderosanes.cat/comunicacio/agenda/xerrada-taller-incontinencia-urinaria.html
CLASS:PUBLIC
END:VEVENT
END:VCALENDAR
