BEGIN:VCALENDAR
VERSION:2.0
CALSCALE:GREGORIAN
PRODID:-//Diputació de Barcelona//DibaCMS//EN
BEGIN:VEVENT
UID:4063
DTSTAMP:20260421T114250
DTSTART:20231031T183000
DTEND:20231031T183000
SUMMARY:Rua de Halloween al Taió
LOCATION:Inici zona Dra. Boada (pistes petanca i bàsquet) 
METHOD:PUBLISH
X-WR-CALNAME:info@castellviderosanes.cat
X-WR-TIMEZONE:Europe/Madrid
DESCRIPTION:Organitza Associació de veïns i veïnes del Taió

URI:https://www.castellviderosanes.cat/municipi/activitats/activitats-culturals/rua-de-halloween-al-taio.html
CLASS:PUBLIC
END:VEVENT
END:VCALENDAR
