BEGIN:VCALENDAR
VERSION:2.0
CALSCALE:GREGORIAN
PRODID:-//Diputació de Barcelona//DibaCMS//EN
BEGIN:VEVENT
UID:4064
DTSTAMP:20260421T102209
DTSTART:20231031T190000
DTEND:20231031T210000
SUMMARY:Passatge del terror
LOCATION:Camí d'enllaç amb el Taió (accés pel cantó del Taió i sortida del passatge pel C. del Parc) 
METHOD:PUBLISH
X-WR-CALNAME:info@castellviderosanes.cat
X-WR-TIMEZONE:Europe/Madrid
DESCRIPTION:Estarà fosc. S'hi accedirà en grups

URI:https://www.castellviderosanes.cat/municipi/activitats/activitats-culturals/passatge-del-terror.html
CLASS:PUBLIC
END:VEVENT
END:VCALENDAR
