BEGIN:VCALENDAR
VERSION:2.0
CALSCALE:GREGORIAN
PRODID:-//Diputació de Barcelona//DibaCMS//EN
BEGIN:VEVENT
UID:9606
DTSTAMP:20260421T150148
DTSTART:20231203T103000
DTEND:20231203T123000
SUMMARY:Vine a buscar el tió!
LOCATION:Inici a la plaça del Roure 
METHOD:PUBLISH
X-WR-CALNAME:info@castellviderosanes.cat
X-WR-TIMEZONE:Europe/Madrid
DESCRIPTION:
URI:https://www.castellviderosanes.cat/municipi/activitats/activitats-culturals/vine-a-buscar-el-tio.html
CLASS:PUBLIC
END:VEVENT
END:VCALENDAR
