BEGIN:VCALENDAR
VERSION:2.0
CALSCALE:GREGORIAN
PRODID:-//Diputació de Barcelona//DibaCMS//EN
BEGIN:VEVENT
UID:9610
DTSTAMP:20260421T132038
DTSTART:20231127T083000
DTEND:20231127T103000
SUMMARY:Reunió amb empresa del polígon Rosanes
LOCATION:
METHOD:PUBLISH
X-WR-CALNAME:info@castellviderosanes.cat
X-WR-TIMEZONE:Europe/Madrid
DESCRIPTION:
URI:https://www.castellviderosanes.cat/ajuntament/electes-i-regidories/agenda-politica/9610-reunio-amb-empresa-del-poligon-rosanes.html
CLASS:PUBLIC
END:VEVENT
END:VCALENDAR
