BEGIN:VCALENDAR
VERSION:2.0
CALSCALE:GREGORIAN
PRODID:-//Diputació de Barcelona//DibaCMS//EN
BEGIN:VEVENT
UID:9680
DTSTAMP:20260421T114823
DTSTART:20240117T193000
DTEND:20240117T193000
SUMMARY:Comissió de festes (només entitats)
LOCATION:Saló de plens 
METHOD:PUBLISH
X-WR-CALNAME:info@castellviderosanes.cat
X-WR-TIMEZONE:Europe/Madrid
DESCRIPTION:
URI:https://www.castellviderosanes.cat/municipi/activitats/activitats-culturals/comissio-de-festes-nomes-entitats.html
CLASS:PUBLIC
END:VEVENT
END:VCALENDAR
