BEGIN:VCALENDAR
VERSION:2.0
CALSCALE:GREGORIAN
PRODID:-//Diputació de Barcelona//DibaCMS//EN
BEGIN:VEVENT
UID:9768
DTSTAMP:20260424T072347
DTSTART:20240222T100000
DTEND:20240222T100000
SUMMARY:Reunió amb l'associació empresarial del polígon
LOCATION:
METHOD:PUBLISH
X-WR-CALNAME:info@castellviderosanes.cat
X-WR-TIMEZONE:Europe/Madrid
DESCRIPTION:
URI:https://www.castellviderosanes.cat/ajuntament/electes-i-regidories/agenda-politica/reunio-amb-lassociacio-empresarial-del-poligon.html
CLASS:PUBLIC
END:VEVENT
END:VCALENDAR
