BEGIN:VCALENDAR
VERSION:2.0
CALSCALE:GREGORIAN
PRODID:-//Diputació de Barcelona//DibaCMS//EN
BEGIN:VEVENT
UID:9829
DTSTAMP:20260421T115511
DTSTART:20240511T120000
DTEND:20240511T120000
SUMMARY:Presentació del conte d'HipoFam
LOCATION:Plaça del poble 
METHOD:PUBLISH
X-WR-CALNAME:info@castellviderosanes.cat
X-WR-TIMEZONE:Europe/Madrid
DESCRIPTION:10 anys de solidaritat

URI:https://www.castellviderosanes.cat/municipi/activitats/activitats-culturals/presentacio-del-conte-dhipofam.html
CLASS:PUBLIC
END:VEVENT
END:VCALENDAR
