BEGIN:VCALENDAR
VERSION:2.0
CALSCALE:GREGORIAN
PRODID:-//Diputació de Barcelona//DibaCMS//EN
BEGIN:VEVENT
UID:9882
DTSTAMP:20260421T150030
DTSTART:20240507T140000
DTEND:20240507T142000
SUMMARY:Caixer mòbil de la Diputació de Barcelona
LOCATION:Al costat de l'Ajuntament 
METHOD:PUBLISH
X-WR-CALNAME:info@castellviderosanes.cat
X-WR-TIMEZONE:Europe/Madrid
DESCRIPTION:
URI:https://www.castellviderosanes.cat/comunicacio/agenda/9882-caixer-mobil-de-la-diputacio-de-barcelona.html
CLASS:PUBLIC
END:VEVENT
END:VCALENDAR
